BEGIN:VCALENDAR
VERSION:2.0
PRODID:-//CARITAS - ECPv6.15.20//NONSGML v1.0//EN
CALSCALE:GREGORIAN
METHOD:PUBLISH
X-WR-CALNAME:CARITAS
X-ORIGINAL-URL:https://caritasva.org
X-WR-CALDESC:Events for CARITAS
REFRESH-INTERVAL;VALUE=DURATION:PT1H
X-Robots-Tag:noindex
X-PUBLISHED-TTL:PT1H
BEGIN:VTIMEZONE
TZID:America/New_York
BEGIN:DAYLIGHT
TZOFFSETFROM:-0500
TZOFFSETTO:-0400
TZNAME:EDT
DTSTART:20250309T070000
END:DAYLIGHT
BEGIN:STANDARD
TZOFFSETFROM:-0400
TZOFFSETTO:-0500
TZNAME:EST
DTSTART:20251102T060000
END:STANDARD
BEGIN:DAYLIGHT
TZOFFSETFROM:-0500
TZOFFSETTO:-0400
TZNAME:EDT
DTSTART:20260308T070000
END:DAYLIGHT
BEGIN:STANDARD
TZOFFSETFROM:-0400
TZOFFSETTO:-0500
TZNAME:EST
DTSTART:20261101T060000
END:STANDARD
BEGIN:DAYLIGHT
TZOFFSETFROM:-0500
TZOFFSETTO:-0400
TZNAME:EDT
DTSTART:20270314T070000
END:DAYLIGHT
BEGIN:STANDARD
TZOFFSETFROM:-0400
TZOFFSETTO:-0500
TZNAME:EST
DTSTART:20271107T060000
END:STANDARD
END:VTIMEZONE
BEGIN:VEVENT
DTSTART;TZID=America/New_York:20260507T173000
DTEND;TZID=America/New_York:20260507T203000
DTSTAMP:20260421T063110
CREATED:20260112T160540Z
LAST-MODIFIED:20260409T190620Z
UID:71858-1778175000-1778185800@caritasva.org
SUMMARY:The Healing Plate - A Benefit for CARITAS
DESCRIPTION:Presented by: \n \n  \nGet Your Tickets Today!\n  \nCARITAS’ 2nd Annual ‘The Healing Plate’ invites community partners\, business leaders\, and supporters to enjoy an evening that celebrates CARITAS’ impact in our community while investing in the life-changing and life-saving programs that make our impact possible. Guests will enjoy a pre-dinner reception with hors d’oeuvres and silent auction\, followed by a three-course\, plated dining experience\, brief program\, and live auction. \nThroughout the evening\, guests will have the opportunity to see how great an impact CARITAS has made over the last twelve months through visual displays of our impact data and testimonies. \nWhy the Healing Plate? \nThe Healing Plate is a fitting reflection of CARITAS’ commitment to provide for those in crisis\, giving you an opportunity to invest in a proven solution that helps provide life-saving and life-changing services to those seeking stability and self-sufficiency. In its second year\, this fundraiser offers guests a chance to engage with CARITAS’ mission\, savor exquisite dishes\, and spend the evening in a spirit of community. \nBecome a Sponsor \n  \n \n 
URL:https://caritasva.org/event/the-healing-plate-a-benefit-for-caritas/
LOCATION:Library of Virginia\, 800 E Broad St\, Richmond\, VA\, 23219\, United States
ATTACH;FMTTYPE=image/png:https://caritasva.org/wp-content/uploads/2026/01/2.png
END:VEVENT
BEGIN:VEVENT
DTSTART;TZID=America/New_York:20260627T090000
DTEND;TZID=America/New_York:20260627T160000
DTSTAMP:20260421T063110
CREATED:20260112T161106Z
LAST-MODIFIED:20260313T164319Z
UID:71860-1782550800-1782576000@caritasva.org
SUMMARY:Recovery Community Day
DESCRIPTION:Come celebrate recovery\, community\, and connection with us at this free\, family-friendly event hosted by the Inclusive Recovery City (IRC). Enjoy a day filled with food\, music\, fun activities\, resources and support services\, and community!  
URL:https://caritasva.org/event/recovery-community-day/
LOCATION:CARITAS – The Healing Place for Men\, 700 Dinwiddie Avenue\, Richmond\, VA\, 23224
ATTACH;FMTTYPE=image/png:https://caritasva.org/wp-content/uploads/2026/01/4.png
END:VEVENT
BEGIN:VEVENT
DTSTART;TZID=America/New_York:20260912T100000
DTEND;TZID=America/New_York:20260912T160000
DTSTAMP:20260421T063110
CREATED:20250715T181219Z
LAST-MODIFIED:20260415T141913Z
UID:36-1789207200-1789228800@caritasva.org
SUMMARY:43rd Street Festival of the Arts
DESCRIPTION:The 43rd Street Festival of the Arts has something for everyone. This annual juried show will feature 75 regional craftsmen and artisans\, each of whom donates a piece to our unique art raffle. The festival is free to attend\, with all donations benefiting CARITAS. Enjoy food trucks\, live music\, and fun for the whole family on a beautiful fall day! \nStreet parking is available around the Forest Hill neighborhood. Food trucks and music will be set up in the parking lot of Good Shepherd Episcopal Church. Allow yourself time to park around the several streets that will be closed for the artists’ booths. Additional parking is available at Forest Hill Park (W 42 St. and New Kent Av.) \nBecome a Sponsor \nThank you to our sponsors!\nPresenting Sponsor – Atlantic Union Bank \n \n  \n \n  \n\n		\n			See you on 43rd St. soon!43rd Street Festival of the Arts\n				\n				September 12\, 2026 -1410 W. 43rd Street\n	\n		\n		Richmond\,\n\n	VA\n\n	23225\n\n	United States\n				\n			\n			\n				\n				12454130\n								\n			\n			\n				\n					DD\n					days\n				\n				\n					HH\n					hours\n				\n				\n					MM\n					min\n				\n				\n					SS\n					sec\n				\n				\n			\n				\n			\n			\n				Find out more
URL:https://caritasva.org/event/43rd-street-festival-of-the-arts/
LOCATION:1410 W. 43rd St.\, 1410 W. 43rd Street\, Richmond\, VA\, 23225\, United States
ATTACH;FMTTYPE=image/png:https://caritasva.org/wp-content/uploads/2025/07/Untitled-design-45.png
END:VEVENT
BEGIN:VEVENT
DTSTART;TZID=America/New_York:20260924T180000
DTEND;TZID=America/New_York:20260924T200000
DTSTAMP:20260421T063110
CREATED:20260112T162050Z
LAST-MODIFIED:20260313T164454Z
UID:71863-1790272800-1790280000@caritasva.org
SUMMARY:THP Alumni Coin Ceremony and Awards
DESCRIPTION:This special evening each September recognizes graduates from The Healing Place who have successfully completed all steps of the program and gained Alumni status. Each new alumnus receives a coin designating their new status in the program. Awards are given for the alumnus\, volunteer\, and community partner of the year.
URL:https://caritasva.org/event/thp-alumni-coin-ceremony-and-awards/
LOCATION:The CARITAS Center\, 2220 Stockton Street\, Richmond\, VA\, 23224
ATTACH;FMTTYPE=image/png:https://caritasva.org/wp-content/uploads/2026/01/1.png
END:VEVENT
BEGIN:VEVENT
DTSTART;TZID=America/New_York:20260926T090000
DTEND;TZID=America/New_York:20260926T140000
DTSTAMP:20260421T063110
CREATED:20260112T162216Z
LAST-MODIFIED:20260313T164535Z
UID:71868-1790413200-1790431200@caritasva.org
SUMMARY:THP Alumni Block Party
DESCRIPTION:This annual celebration reunites our recovery community for a day of family-friendly fun. Hundreds of attendees enjoy activities such as a dj\, a moonbounce\, and the annual dunk tank.
URL:https://caritasva.org/event/thp-alumni-block-party/
LOCATION:The CARITAS Center\, 2220 Stockton Street\, Richmond\, VA\, 23224
ATTACH;FMTTYPE=image/png:https://caritasva.org/wp-content/uploads/2026/01/3.png
END:VEVENT
END:VCALENDAR